BEGIN:VCALENDAR
VERSION:2.0
PRODID:Spatie calendar-links
BEGIN:VEVENT
UID:003d5866c8a71dde346db904dfe56aba
SUMMARY:THE MEDIA IS THE VIRUS - Saskatoon
DTSTAMP;TZID=America/Los_Angeles:20220205T130000
DTSTART;TZID=America/Los_Angeles:20220205T130000
DTEND;TZID=America/Los_Angeles:20220205T150000
LOCATION:138 4th Ave S.\, Saskatoon\, Saskatchewan\, Canada
END:VEVENT
END:VCALENDAR