BEGIN:VCALENDAR
VERSION:2.0
PRODID:Spatie calendar-links
BEGIN:VEVENT
UID:953804a5f8db60e2e7c75c17783802f2
SUMMARY:THE MEDIA IS THE VIRUS - Winnipeg
DTSTAMP;TZID=America/Los_Angeles:20220205T130000
DTSTART;TZID=America/Los_Angeles:20220205T130000
DTEND;TZID=America/Los_Angeles:20220205T150000
LOCATION:541 Portage Ave\, Winnipeg\, Manitoba\, Canada
END:VEVENT
END:VCALENDAR