BEGIN:VCALENDAR
VERSION:2.0
PRODID:Spatie calendar-links
BEGIN:VEVENT
UID:41e3a0c5fe35eb197fe7e3c83c86a419
SUMMARY:THE MEDIA IS THE VIRUS - Pembroke\, ON
DTSTAMP;TZID=America/Los_Angeles:20220205T120000
DTSTART;TZID=America/Los_Angeles:20220205T120000
DTEND;TZID=America/Los_Angeles:20220205T150000
LOCATION:84 Isabella St\, Pembroke\, Ontario\, Canada
END:VEVENT
END:VCALENDAR