BEGIN:VCALENDAR
VERSION:2.0
PRODID:Spatie calendar-links
BEGIN:VEVENT
UID:f716bc4f556a2187600b6bbaacaaba89
SUMMARY:World Wide Rally Jan 22 Edmonton
DTSTAMP;TZID=America/Edmonton:20220122T120000
DTSTART;TZID=America/Edmonton:20220122T120000
DTEND;TZID=America/Edmonton:20220122T150000
LOCATION:1050 Braidwood Road Legislature Building\, Edmonton\, Alberta\, Canada
END:VEVENT
END:VCALENDAR