BEGIN:VCALENDAR
VERSION:2.0
PRODID:Spatie calendar-links
BEGIN:VEVENT
UID:47da76580f47e79adea64e73b6956a7f
SUMMARY:World Wide Rally Jan 22 Castlegar
DTSTAMP;TZID=America/Vancouver:20220122T130000
DTSTART;TZID=America/Vancouver:20220122T130000
DTEND;TZID=America/Vancouver:20220122T150000
LOCATION:1500 Columbia Avenue\, Castlegar\, BC\, Canada
END:VEVENT
END:VCALENDAR