BEGIN:VCALENDAR
VERSION:2.0
PRODID:Spatie calendar-links
BEGIN:VEVENT
UID:9ef654b9177308263cba096f20920fa5
SUMMARY:World Wide Rally Jan 22 Victoria
DTSTAMP;TZID=America/Vancouver:20220122T120000
DTSTART;TZID=America/Vancouver:20220122T120000
DTEND;TZID=America/Vancouver:20220122T150000
LOCATION:Victoria\, BC\, Canada
END:VEVENT
END:VCALENDAR