BEGIN:VCALENDAR
VERSION:2.0
PRODID:Spatie calendar-links
BEGIN:VEVENT
UID:0d23f574578af1ede23fdbd343919932
SUMMARY:World Wide Rally Jan 22 Halifax
DTSTAMP;TZID=America/Halifax:20220122T140000
DTSTART;TZID=America/Halifax:20220122T140000
DTEND;TZID=America/Halifax:20220122T160000
LOCATION:1170 Hollis St.\, Halifax\, New Brunswick\, Canada
END:VEVENT
END:VCALENDAR