BEGIN:VCALENDAR
VERSION:2.0
PRODID:Spatie calendar-links
BEGIN:VEVENT
UID:5d25cf1385503cbcf8878c7cdfdb3308
SUMMARY:Make Canada Free Again
DTSTAMP;TZID=America/Vancouver:20210313T130000
DTSTART;TZID=America/Vancouver:20210313T130000
DTEND;TZID=America/Vancouver:20210313T150000
LOCATION:2600 Highway 6\, Vernon\, BC\, Canada
END:VEVENT
END:VCALENDAR