BEGIN:VCALENDAR
VERSION:2.0
PRODID:Spatie calendar-links
BEGIN:VEVENT
UID:cdf3bf285ddb46d0418cb5f889db6f7c
SUMMARY:World Wide Rally Jan 22 Kelowna
DTSTAMP;TZID=America/Vancouver:20220122T120000
DTSTART;TZID=America/Vancouver:20220122T120000
DTEND;TZID=America/Vancouver:20220122T150000
LOCATION:Kelowna\, BC\, Canada
END:VEVENT
END:VCALENDAR