BEGIN:VCALENDAR
VERSION:2.0
PRODID:Spatie calendar-links
BEGIN:VEVENT
UID:875a6400f8bdf7ecb7c531509326dda4
SUMMARY:World Wide Rally Jan 22 Vancouver
DTSTAMP;TZID=America/Vancouver:20220122T120000
DTSTART;TZID=America/Vancouver:20220122T120000
DTEND;TZID=America/Vancouver:20220122T160000
LOCATION:Vancouver\, BC\, Canada
END:VEVENT
END:VCALENDAR