BEGIN:VCALENDAR
VERSION:2.0
PRODID:Spatie calendar-links
BEGIN:VEVENT
UID:1b3254fbaff182a8678ef42c5b5fa107
SUMMARY:World Wide Rally Jan 22 Penticton
DTSTAMP;TZID=America/Vancouver:20220122T120000
DTSTART;TZID=America/Vancouver:20220122T120000
DTEND;TZID=America/Vancouver:20220122T160000
LOCATION:Penticton\, BC\, Canada
END:VEVENT
END:VCALENDAR