BEGIN:VCALENDAR
VERSION:2.0
PRODID:Spatie calendar-links
BEGIN:VEVENT
UID:2aea45b578c068911b62fde7785c76d5
SUMMARY:World Wide Rally Jan 22 Prince George
DTSTAMP;TZID=America/Vancouver:20220122T120000
DTSTART;TZID=America/Vancouver:20220122T120000
DTEND;TZID=America/Vancouver:20220122T160000
LOCATION:Prince George\, BC\, Canada
END:VEVENT
END:VCALENDAR