BEGIN:VCALENDAR
VERSION:2.0
PRODID:Spatie calendar-links
BEGIN:VEVENT
UID:8260d0ce835eac6174546fed8eb41b38
SUMMARY:World Wide Rally Jan 22 Cranbrook
DTSTAMP;TZID=America/Vancouver:20220114T120000
DTSTART;TZID=America/Vancouver:20220114T120000
DTEND;TZID=America/Vancouver:20220114T170000
LOCATION:Cranbrook\, BC\, Canada
END:VEVENT
END:VCALENDAR