BEGIN:VCALENDAR
VERSION:2.0
PRODID:Spatie calendar-links
BEGIN:VEVENT
UID:36e10fa919ba4e84f7962d0593155bc3
SUMMARY:World Wide Rally Jan 22 Fredericton
DTSTAMP;TZID=America/Halifax:20220122T130000
DTSTART;TZID=America/Halifax:20220122T130000
DTEND;TZID=America/Halifax:20220122T150000
LOCATION:Fredericton\, New Brunswick\, Canada
END:VEVENT
END:VCALENDAR