BEGIN:VCALENDAR
VERSION:2.0
PRODID:Spatie calendar-links
BEGIN:VEVENT
UID:9371c00d87dbfd8554ee5300f00f3868
SUMMARY:World Wide Rally Jan 22 Calgary
DTSTAMP;TZID=America/Edmonton:20220122T130000
DTSTART;TZID=America/Edmonton:20220122T130000
DTEND;TZID=America/Edmonton:20220122T160000
LOCATION:Calgary\, Alberta\, Canada
END:VEVENT
END:VCALENDAR