BEGIN:VCALENDAR
VERSION:2.0
PRODID:Spatie calendar-links
BEGIN:VEVENT
UID:fcc6799595234c2237a809ed7e74bb1b
SUMMARY:World Wide Rally Jan 22 Toronto
DTSTAMP;TZID=America/Toronto:20220122T120000
DTSTART;TZID=America/Toronto:20220122T120000
DTEND;TZID=America/Toronto:20220122T150000
LOCATION:Toronto\, Ontario\, Canada
END:VEVENT
END:VCALENDAR