BEGIN:VCALENDAR
VERSION:2.0
PRODID:Spatie calendar-links
BEGIN:VEVENT
UID:fabf3adc3a364260fcc1299d51de2e73
SUMMARY:World Wide Rally Jan 22 Whitby
DTSTAMP;TZID=America/Toronto:20220122T120000
DTSTART;TZID=America/Toronto:20220122T120000
DTEND;TZID=America/Toronto:20220122T150000
LOCATION:605 Rossland Rd. East\, Whitby\, Ontario\, Canada
END:VEVENT
END:VCALENDAR