BEGIN:VCALENDAR
VERSION:2.0
PRODID:Spatie calendar-links
BEGIN:VEVENT
UID:599a88692913820e6193c4298aaa52a2
SUMMARY:World Wide Rally Jan 22 Ottawa
DTSTAMP;TZID=America/Toronto:20220122T110000
DTSTART;TZID=America/Toronto:20220122T110000
DTEND;TZID=America/Toronto:20220122T150000
LOCATION:Ottawa\, Ontario\, Canada
END:VEVENT
END:VCALENDAR