BEGIN:VCALENDAR
VERSION:2.0
PRODID:Spatie calendar-links
BEGIN:VEVENT
UID:019c6c7cb0422ef79278f6c93722fa39
SUMMARY:Make Canada Free Again
DTSTAMP;TZID=America/Vancouver:20210314T130000
DTSTART;TZID=America/Vancouver:20210314T130000
DTEND;TZID=America/Vancouver:20210314T150000
LOCATION:1430 Water Street\, Kelowna\, BC\, Canada
END:VEVENT
END:VCALENDAR