BEGIN:VCALENDAR
VERSION:2.0
PRODID:Spatie calendar-links
BEGIN:VEVENT
UID:c377e0bf67490972e81d1e4e3d63996b
SUMMARY:World Wide Rally Jan 22 Montreal
DTSTAMP;TZID=America/Toronto:20220122T130000
DTSTART;TZID=America/Toronto:20220122T130000
DTEND;TZID=America/Toronto:20220122T160000
LOCATION:Montreal\, Quebec\, Canada
END:VEVENT
END:VCALENDAR