BEGIN:VCALENDAR
VERSION:2.0
PRODID:Spatie calendar-links
BEGIN:VEVENT
UID:9e66d65664e1c322595be569fbf2c7e1
SUMMARY:World Wide Rally Jan 22 Guelph
DTSTAMP;TZID=America/Toronto:20220122T140000
DTSTART;TZID=America/Toronto:20220122T140000
DTEND;TZID=America/Toronto:20220122T160000
LOCATION:Guelph\, Ontario\, Canada
END:VEVENT
END:VCALENDAR