BEGIN:VCALENDAR
VERSION:2.0
PRODID:Spatie calendar-links
BEGIN:VEVENT
UID:ad26b784043ba1e5450b9de63117fe24
SUMMARY:WORLD WIDE FREEDOM RALLY 6.0
DTSTAMP;TZID=America/Los_Angeles:20220122T120000
DTSTART;TZID=America/Los_Angeles:20220122T120000
DTEND;TZID=America/Los_Angeles:20220122T170000
LOCATION:750 Hornby Street\, Vancouver\, British Columbia\, Canada
END:VEVENT
END:VCALENDAR