BEGIN:VCALENDAR
VERSION:2.0
PRODID:Spatie calendar-links
BEGIN:VEVENT
UID:7029a8996dffd1588e3512b86856937e
SUMMARY:World Wide Rally Jan 22 Ucluelet/Tofino
DTSTAMP;TZID=America/Vancouver:20220122T130000
DTSTART;TZID=America/Vancouver:20220122T130000
DTEND;TZID=America/Vancouver:20220122T160000
LOCATION:Ucluelet\, BC\, Canada
END:VEVENT
END:VCALENDAR