BEGIN:VCALENDAR
VERSION:2.0
PRODID:Spatie calendar-links
BEGIN:VEVENT
UID:651d76d48bd977a10cc311f861a8f5f5
SUMMARY:Fellowship of the Awake World Wide Rally Support
DTSTAMP;TZID=America/Los_Angeles:20220125T170000
DTSTART;TZID=America/Los_Angeles:20220125T170000
DTEND;TZID=America/Los_Angeles:20220125T200000
LOCATION:3650 Douglas Rd.\, Burnaby\, BC\, Canada
END:VEVENT
END:VCALENDAR