BEGIN:VCALENDAR
VERSION:2.0
PRODID:Spatie calendar-links
BEGIN:VEVENT
UID:398ebf3baaf03579a5a52379021fadbb
SUMMARY:Mainstream Media Rally
DTSTAMP;TZID=America/Vancouver:20220126T110000
DTSTART;TZID=America/Vancouver:20220126T110000
DTEND;TZID=America/Vancouver:20220126T140000
END:VEVENT
END:VCALENDAR