BEGIN:VCALENDAR
VERSION:2.0
PRODID:Spatie calendar-links
BEGIN:VEVENT
UID:1bdc0365dc32f7e2094adaab7df10339
SUMMARY:ISLAND CONVOY - Feb.5\, 2022
DTSTAMP;TZID=America/Los_Angeles:20220205T064500
DTSTART;TZID=America/Los_Angeles:20220205T064500
DTEND;TZID=America/Los_Angeles:20220205T113000
LOCATION:150 Brant Drive\, Campbell River\, British Columbia\, Canada
END:VEVENT
END:VCALENDAR