BEGIN:VCALENDAR
VERSION:2.0
PRODID:Spatie calendar-links
BEGIN:VEVENT
UID:6f01ebab24a68a67d5ee43ef935f9ca0
SUMMARY:Blue Island Bistro - Evening Gathering
DTSTAMP;TZID=America/Vancouver:20220218T073000
DTSTART;TZID=America/Vancouver:20220218T073000
DTEND;TZID=America/Vancouver:20220219T003000
LOCATION:305 Water Street\, Vancouver\, BC\, Canada
END:VEVENT
END:VCALENDAR