BEGIN:VCALENDAR
VERSION:2.0
PRODID:Spatie calendar-links
BEGIN:VEVENT
UID:b8268089229ca1aa327dd8a080564594
SUMMARY:Burnaby Freedom Pod
DTSTAMP;TZID=America/Los_Angeles:20220217T190000
DTSTART;TZID=America/Los_Angeles:20220217T190000
DTEND;TZID=America/Los_Angeles:20220217T200000
LOCATION:3650 Douglas Rd.\, Burnaby\, BC\, Canada
END:VEVENT
END:VCALENDAR