BEGIN:VCALENDAR
VERSION:2.0
PRODID:Spatie calendar-links
BEGIN:VEVENT
UID:f63b431f69380feaeb2407660ce1f239
SUMMARY:The media is the Virus rally - Burnaby
DTSTAMP;TZID=America/Los_Angeles:20220219T120000
DTSTART;TZID=America/Los_Angeles:20220219T120000
DTEND;TZID=America/Los_Angeles:20220219T150000
LOCATION:7850 Enterprise Street\, Burnaby\, British Columbia\, Canada
END:VEVENT
END:VCALENDAR