BEGIN:VCALENDAR
VERSION:2.0
PRODID:Spatie calendar-links
BEGIN:VEVENT
UID:40fe06e9045992a7751a69132ed5ea2b
SUMMARY:3RD LOWER MAINLAND FREEDOM CONVOY
DTSTAMP;TZID=America/Los_Angeles:20220212T100000
DTSTART;TZID=America/Los_Angeles:20220212T100000
DTEND;TZID=America/Los_Angeles:20220212T160000
LOCATION:43971  Industrial Way\, Chilliwack\, British Columbia\, Canada
END:VEVENT
END:VCALENDAR