BEGIN:VCALENDAR
VERSION:2.0
PRODID:Spatie calendar-links
BEGIN:VEVENT
UID:d9acc0e10e8ea5d6b4f2bbcea46a6f45
SUMMARY:Trucker Support Convoy - Stand United Border Event
DTSTAMP;TZID=America/Los_Angeles:20220219T100000
DTSTART;TZID=America/Los_Angeles:20220219T100000
DTEND;TZID=America/Los_Angeles:20220219T180000
LOCATION:43971 Industrial Way\, Chilliwack\, British Columbia\, Canada
END:VEVENT
END:VCALENDAR