BEGIN:VCALENDAR
VERSION:2.0
PRODID:Spatie calendar-links
BEGIN:VEVENT
UID:29852ca5d5feaf565616ad27e17fc9f0
SUMMARY:Ezra Wellness Conference Feb 27th Regina
DTSTAMP;TZID=America/Regina:20220227T100000
DTSTART;TZID=America/Regina:20220227T100000
DTEND;TZID=America/Regina:20220227T170000
LOCATION:100 Armour Rd.\, Regina\, Saskatchewan \, Canada
END:VEVENT
END:VCALENDAR