BEGIN:VCALENDAR
VERSION:2.0
PRODID:Spatie calendar-links
BEGIN:VEVENT
UID:31db073acb4c41ccbe1bec1aebe2f934
SUMMARY:Rally For Freedom Richmond Stand In Unity
DTSTAMP;TZID=America/Los_Angeles:20220220T120000
DTSTART;TZID=America/Los_Angeles:20220220T120000
DTEND;TZID=America/Los_Angeles:20220220T150000
LOCATION:7191 Granville Ave\, Richmond\, British Columbia\, Canada
END:VEVENT
END:VCALENDAR