BEGIN:VCALENDAR
VERSION:2.0
PRODID:Spatie calendar-links
BEGIN:VEVENT
UID:d1d277bcd9f2a2a7f00bc52b8ae92519
SUMMARY:Family Day Rally / Convoy Parade
DTSTAMP;TZID=America/Los_Angeles:20220221T110000
DTSTART;TZID=America/Los_Angeles:20220221T110000
DTEND;TZID=America/Los_Angeles:20220221T150000
LOCATION:43971 Industrial Way\, Chilliwack\, British Columbia\, Canada
END:VEVENT
END:VCALENDAR