BEGIN:VCALENDAR
VERSION:2.0
PRODID:Spatie calendar-links
BEGIN:VEVENT
UID:e42d4803fb58ab043cd1f853d82f68d5
SUMMARY:Family Day Freedom Convoy
DTSTAMP;TZID=America/Los_Angeles:20220221T103000
DTSTART;TZID=America/Los_Angeles:20220221T103000
DTEND;TZID=America/Los_Angeles:20220221T150000
LOCATION:20090 91a Avenue\, Langley\, British Columbia\, Canada
END:VEVENT
END:VCALENDAR