BEGIN:VCALENDAR
VERSION:2.0
PRODID:Spatie calendar-links
BEGIN:VEVENT
UID:2a6c3dba46a5d81ce10ba942c3036aa4
SUMMARY:BC Freedom Convoy 2022
DTSTAMP;TZID=America/Los_Angeles:20220219T140000
DTSTART;TZID=America/Los_Angeles:20220219T140000
DTEND;TZID=America/Los_Angeles:20220219T170000
LOCATION:501 Belleville Street\, Victoria\, British Columbia\, Canada
END:VEVENT
END:VCALENDAR