BEGIN:VCALENDAR
VERSION:2.0
PRODID:Spatie calendar-links
BEGIN:VEVENT
UID:4e788b6d08b0b8a607959c620b2f5655
SUMMARY:BC Freedom Convoy 2022 - Citizens 4 Change - Campbell River
DTSTAMP;TZID=America/Los_Angeles:20220219T070000
DTSTART;TZID=America/Los_Angeles:20220219T070000
DTEND;TZID=America/Los_Angeles:20220219T170000
LOCATION:150 Brant Drive\, Campbell River\, British Columbia\, Canada
END:VEVENT
END:VCALENDAR