BEGIN:VCALENDAR
VERSION:2.0
PRODID:Spatie calendar-links
BEGIN:VEVENT
UID:7cdc0263a287b4daa73f411339587aeb
SUMMARY:Vancouver Island Freedom Alliance Protest
DTSTAMP;TZID=America/Vancouver:20210313T120000
DTSTART;TZID=America/Vancouver:20210313T120000
DTEND;TZID=America/Vancouver:20210313T140000
LOCATION:1515 Blanshard Street\, Victoria\, BC\, Canada
END:VEVENT
END:VCALENDAR