BEGIN:VCALENDAR
VERSION:2.0
PRODID:Spatie calendar-links
BEGIN:VEVENT
UID:be66582683bdbaf5c211d4e30fa6b4bb
SUMMARY:WORLD WIDE FREEDOM RALLY 7.0
DTSTAMP;TZID=America/Los_Angeles:20220219T120000
DTSTART;TZID=America/Los_Angeles:20220219T120000
DTEND;TZID=America/Los_Angeles:20220219T160000
LOCATION:1055 Canada Pl\, Vancouver\, British Columbia\, Canada
END:VEVENT
END:VCALENDAR