BEGIN:VCALENDAR
VERSION:2.0
PRODID:Spatie calendar-links
BEGIN:VEVENT
UID:cd41cd6514c0307737941146b895d2b3
SUMMARY:THE MEDIA IS THE VIRUS - Vancouver
DTSTAMP;TZID=America/Los_Angeles:20220305T120000
DTSTART;TZID=America/Los_Angeles:20220305T120000
DTEND;TZID=America/Los_Angeles:20220305T150000
LOCATION:700 Hamilton Street\, Vancouver\, British Columbia\, Canada
END:VEVENT
END:VCALENDAR