BEGIN:VCALENDAR
VERSION:2.0
PRODID:Spatie calendar-links
BEGIN:VEVENT
UID:bc466351b55b3782345a5c6a782f77f6
SUMMARY:Dance Party with Truck Convoy
DTSTAMP;TZID=America/Los_Angeles:20220226T110000
DTSTART;TZID=America/Los_Angeles:20220226T110000
DTEND;TZID=America/Los_Angeles:20220226T180000
LOCATION:961 Robson Street\, Vancouver\, British Columbia\, Canada
END:VEVENT
END:VCALENDAR