BEGIN:VCALENDAR
VERSION:2.0
PRODID:Spatie calendar-links
BEGIN:VEVENT
UID:3f7e820f3f25ed90ffbaef51756df572
SUMMARY:Canada United Freedom Rally March 19th
DTSTAMP;TZID=America/Vancouver:20220319T130000
DTSTART;TZID=America/Vancouver:20220319T130000
DTEND;TZID=America/Vancouver:20220319T170000
LOCATION:Canada
END:VEVENT
END:VCALENDAR