BEGIN:VCALENDAR
VERSION:2.0
PRODID:Spatie calendar-links
BEGIN:VEVENT
UID:4a1fc9728dd4d43853687578e84c5dae
SUMMARY:World Wide Rally March 19th Vancouver
DTSTAMP;TZID=America/Vancouver:20220319T130000
DTSTART;TZID=America/Vancouver:20220319T130000
DTEND;TZID=America/Vancouver:20220319T170000
LOCATION:Vancouver\, BC\, Canada
END:VEVENT
END:VCALENDAR