BEGIN:VCALENDAR
VERSION:2.0
PRODID:Spatie calendar-links
BEGIN:VEVENT
UID:4238c46fdeb444b480e5b2355aa15618
SUMMARY:Ezra Leadership Conference March 5th Saskatoon
DTSTAMP;TZID=America/Regina:20220305T090000
DTSTART;TZID=America/Regina:20220305T090000
DTEND;TZID=America/Regina:20220305T170000
LOCATION:Saskatoon\, Saskatchewan \, Canada
END:VEVENT
END:VCALENDAR