BEGIN:VCALENDAR
VERSION:2.0
PRODID:Spatie calendar-links
BEGIN:VEVENT
UID:95b9d237c4ce170bc251ddace329ecb2
SUMMARY:Wellness Freedom Cell
DTSTAMP;TZID=America/Los_Angeles:20220317T191500
DTSTART;TZID=America/Los_Angeles:20220317T191500
DTEND;TZID=America/Los_Angeles:20220317T210000
LOCATION:3650 Douglas Rd.\, Burnaby\, BC\, Canada
END:VEVENT
END:VCALENDAR