BEGIN:VCALENDAR
VERSION:2.0
PRODID:Spatie calendar-links
BEGIN:VEVENT
UID:fd387bd8a085a71b81527291d7000b20
SUMMARY:Mind Map workshop series: Stregthen Your Intuition
DTSTAMP;TZID=America/Los_Angeles:20220320T123000
DTSTART;TZID=America/Los_Angeles:20220320T123000
DTEND;TZID=America/Los_Angeles:20220320T180000
LOCATION:3650 Douglas Rd.\, Burnaby\, BC\, Canada
END:VEVENT
END:VCALENDAR