BEGIN:VCALENDAR
VERSION:2.0
PRODID:Spatie calendar-links
BEGIN:VEVENT
UID:329886198a2051013941c5c508de698f
SUMMARY:Walk For Freedom - Calgary
DTSTAMP;TZID=America/Edmonton:20210320T130000
DTSTART;TZID=America/Edmonton:20210320T130000
DTEND;TZID=America/Edmonton:20210320T160000
LOCATION:698 Eau Claire Avenue Southwest\, Calgary\, AB\, Canada
END:VEVENT
END:VCALENDAR