BEGIN:VCALENDAR
VERSION:2.0
PRODID:Spatie calendar-links
BEGIN:VEVENT
UID:6ce3da46bc0ea442301a0846dac01fb3
SUMMARY:World Wide Rally March 19th Cranbrook
DTSTAMP;TZID=America/Vancouver:20220319T130000
DTSTART;TZID=America/Vancouver:20220319T130000
DTEND;TZID=America/Vancouver:20220319T160000
END:VEVENT
END:VCALENDAR