BEGIN:VCALENDAR
VERSION:2.0
PRODID:Spatie calendar-links
BEGIN:VEVENT
UID:939d4074aeeac208673773375f3c8fb8
SUMMARY:World Wide Rally March 19th Saskatoon
DTSTAMP;TZID=America/Regina:20220319T120000
DTSTART;TZID=America/Regina:20220319T120000
DTEND;TZID=America/Regina:20220319T150000
LOCATION:414 Avenue B South\, Saskatoon\, Saskatchewan \, Canada
END:VEVENT
END:VCALENDAR