BEGIN:VCALENDAR
VERSION:2.0
PRODID:Spatie calendar-links
BEGIN:VEVENT
UID:db6d260d9981f7228994dd94db8023b1
SUMMARY:World Wide Rally March 19th Calgary
DTSTAMP;TZID=America/Vancouver:20220319T140000
DTSTART;TZID=America/Vancouver:20220319T140000
DTEND;TZID=America/Vancouver:20220319T170000
LOCATION:Calgary\, Alberta\, Canada
END:VEVENT
END:VCALENDAR